BEGIN:VCALENDAR
VERSION:2.0
PRODID:-//Grupo de investigación Género y Política GEYPO - ECPv6.0.1.1//NONSGML v1.0//EN
CALSCALE:GREGORIAN
METHOD:PUBLISH
X-ORIGINAL-URL:https://geypo.es
X-WR-CALDESC:Eventos para Grupo de investigación Género y Política GEYPO
REFRESH-INTERVAL;VALUE=DURATION:PT1H
X-Robots-Tag:noindex
X-PUBLISHED-TTL:PT1H
BEGIN:VTIMEZONE
TZID:Europe/Madrid
BEGIN:DAYLIGHT
TZOFFSETFROM:+0100
TZOFFSETTO:+0200
TZNAME:CEST
DTSTART:20220327T010000
END:DAYLIGHT
BEGIN:STANDARD
TZOFFSETFROM:+0200
TZOFFSETTO:+0100
TZNAME:CET
DTSTART:20221030T010000
END:STANDARD
END:VTIMEZONE
BEGIN:VEVENT
DTSTART;TZID=Europe/Madrid:20220323T120000
DTEND;TZID=Europe/Madrid:20220323T130000
DTSTAMP:20260419T171336
CREATED:20220314T053543Z
LAST-MODIFIED:20220314T114212Z
UID:10000050-1648036800-1648040400@geypo.es
SUMMARY:Joana Hofstetter: ‘Protesting against protection: the political self-organization of sex workers in the context of Germany’s prostitutes protection act’.
DESCRIPTION:En esta ocasión la investigadora visitante de la Scuola Normale Superiore de Florencia\, Joana Hofstetter\, presentará el paper ‘Protesting against protection: the political self-organization of sex workers in the context of Germany’s prostitutes protection act’.
URL:https://geypo.es/event/joana-hofstetter
LOCATION:Salón de Grados\, Facultad Ciencias Políticas y Sociología UCM y Conexión online
CATEGORIES:Seminarios
ATTACH;FMTTYPE=image/jpeg:https://geypo.es/wp-content/uploads/2022/03/qmNMHCVO_400x400.jpg
ORGANIZER;CN="Grupo%20de%20investigaci%C3%B3n%20G%C3%A9nero%20y%20Pol%C3%ADtica%20GEYPO%2C%20Departamento%20de%20Ciencia%20Pol%C3%ADtica%20y%20Administraci%C3%B3n":MAILTO:elombardo@cps.ucm.es
END:VEVENT
END:VCALENDAR